BEGIN:VCALENDAR
VERSION:2.0
PRODID:-//AG Nachhaltigkeit Hage - ECPv6.15.20//NONSGML v1.0//EN
CALSCALE:GREGORIAN
METHOD:PUBLISH
X-WR-CALNAME:AG Nachhaltigkeit Hage
X-ORIGINAL-URL:https://nachhaltigkeit-hage.de
X-WR-CALDESC:Veranstaltungen für AG Nachhaltigkeit Hage
REFRESH-INTERVAL;VALUE=DURATION:PT1H
X-Robots-Tag:noindex
X-PUBLISHED-TTL:PT1H
BEGIN:VTIMEZONE
TZID:Europe/Berlin
BEGIN:DAYLIGHT
TZOFFSETFROM:+0100
TZOFFSETTO:+0200
TZNAME:CEST
DTSTART:20240331T010000
END:DAYLIGHT
BEGIN:STANDARD
TZOFFSETFROM:+0200
TZOFFSETTO:+0100
TZNAME:CET
DTSTART:20241027T010000
END:STANDARD
BEGIN:DAYLIGHT
TZOFFSETFROM:+0100
TZOFFSETTO:+0200
TZNAME:CEST
DTSTART:20250330T010000
END:DAYLIGHT
BEGIN:STANDARD
TZOFFSETFROM:+0200
TZOFFSETTO:+0100
TZNAME:CET
DTSTART:20251026T010000
END:STANDARD
BEGIN:DAYLIGHT
TZOFFSETFROM:+0100
TZOFFSETTO:+0200
TZNAME:CEST
DTSTART:20260329T010000
END:DAYLIGHT
BEGIN:STANDARD
TZOFFSETFROM:+0200
TZOFFSETTO:+0100
TZNAME:CET
DTSTART:20261025T010000
END:STANDARD
BEGIN:DAYLIGHT
TZOFFSETFROM:+0100
TZOFFSETTO:+0200
TZNAME:CEST
DTSTART:20270328T010000
END:DAYLIGHT
BEGIN:STANDARD
TZOFFSETFROM:+0200
TZOFFSETTO:+0100
TZNAME:CET
DTSTART:20271031T010000
END:STANDARD
END:VTIMEZONE
BEGIN:VEVENT
DTSTART;TZID=Europe/Berlin:20260318T190000
DTEND;TZID=Europe/Berlin:20260318T210000
DTSTAMP:20260423T122441
CREATED:20251203T120855Z
LAST-MODIFIED:20260314T094136Z
UID:1437-1773860400-1773867600@nachhaltigkeit-hage.de
SUMMARY:Treffen der AG
DESCRIPTION:Vorgeschlagen werden folgende Tagesordnungspunkte: \nTOP 1 – Information der Arbeitsgruppe „Zukunftswerkstatt“ zu aktuellen Projekten (Burg Berum\, Zeppelinturm)\nTOP 2 – Errichtung einer Geschäftsstelle der Biosphärenregion durch die Samtgemeinde Hage\nTOP 3 – Das Starkregen-Netzwerk Niedersachsen (UAN) informierte in der ZOOM-Konferenz am 4.2.2026 u.a. über „Risiken eines Starkregenereignisses durch Planung und Frühwarnung abmildern“ (Starkregen-Netzwerk | UAN)\nTOP 4 – Ausstellung „Natur und Garten – Lebensräume erhalten und schaffen…“ am 19.4.2026 in der KVHS Norden\nTOP 5 – Stationen der AG Nachhaltigkeit seit 2020\nTOP 6 – Arbeitsschwerpunkte zu den 25 Arbeitszielen\nTOP 7 – Moderation der AG Nachhaltigkeit einschl. Vorbereitung der Einladungen; Sonstiges\, nächstes Treffen
URL:https://nachhaltigkeit-hage.de/veranstaltung/treffen-der-ag-6/
LOCATION:AWO-Treff Hage\, Halbemonder Str. 2A\, Hage\, 26524
END:VEVENT
BEGIN:VEVENT
DTSTART;TZID=Europe/Berlin:20251015T190000
DTEND;TZID=Europe/Berlin:20251015T210000
DTSTAMP:20260423T122441
CREATED:20250830T135531Z
LAST-MODIFIED:20251008T160339Z
UID:1411-1760554800-1760562000@nachhaltigkeit-hage.de
SUMMARY:Treffen der AG
DESCRIPTION:Vorgeschlagen werden folgende Tagesordnungspunkte: \nTOP 1 \nDas Starkregen-Netzwerk Niedersachsen (UAN) informierte in der ZOOM-Konferenz am 10.09.2025 über „Schäden durch Starkregen – Welche Versicherungen schützen?“ \nTOP 2 \nEinladung: 30. Oktober “Workshop Biosphärenregion” in Wilhelmshaven – Es werden Projekte für die Biosphärenregion entwickelt\, die in den kommenden zehn Jahren umgesetzt werden sollen. (Anlage 1) \nTOP 3\nStationen der AG Nachhaltigkeit seit 2021 (Anlage 2) \nTOP 4 \nArbeitsschwerpunkte zu den 25 Arbeitszielen (Anlage 3) \nTOP 5 \nModeration der AG Nachhaltigkeit einschl. Vorbereitung der Einladungen\,\nSonstiges\, nächstes Treffen (Winterpause?)
URL:https://nachhaltigkeit-hage.de/veranstaltung/treffen-der-ag-5/
LOCATION:AWO-Treff Hage\, Halbemonder Str. 2A\, Hage\, 26524
END:VEVENT
BEGIN:VEVENT
DTSTART;TZID=Europe/Berlin:20250907T110000
DTEND;TZID=Europe/Berlin:20250907T170000
DTSTAMP:20260423T122441
CREATED:20250830T140139Z
LAST-MODIFIED:20250830T141447Z
UID:1414-1757242800-1757264400@nachhaltigkeit-hage.de
SUMMARY:Tuffelmarkt 2025
DESCRIPTION:Auch die AG Nachhaltigkeit Hage und die Zukunftswerkstatt Hage beteiligen sich aktiv am Tuffelmarkt 2025.\nBesucht uns und erfahrt mehr über unsere Aktivitäten.
URL:https://nachhaltigkeit-hage.de/veranstaltung/tuffelmarkt/
LOCATION:Marktplatz Hage\, Hauptstraße\, Hage\, NDS\, 26524\, Germany
END:VEVENT
BEGIN:VEVENT
DTSTART;TZID=Europe/Berlin:20250820T190000
DTEND;TZID=Europe/Berlin:20250820T210000
DTSTAMP:20260423T122441
CREATED:20250523T141100Z
LAST-MODIFIED:20250523T141146Z
UID:1403-1755716400-1755723600@nachhaltigkeit-hage.de
SUMMARY:Treffen der AG
DESCRIPTION:
URL:https://nachhaltigkeit-hage.de/veranstaltung/treffen-der-ag-2/
LOCATION:AWO-Treff Hage\, Halbemonder Str. 2A\, Hage\, 26524
END:VEVENT
BEGIN:VEVENT
DTSTART;TZID=Europe/Berlin:20250621T090000
DTEND;TZID=Europe/Berlin:20250621T140000
DTSTAMP:20260423T122441
CREATED:20250411T101356Z
LAST-MODIFIED:20250411T151152Z
UID:1381-1750496400-1750514400@nachhaltigkeit-hage.de
SUMMARY:Markt der Möglichkeiten
DESCRIPTION:Die Arbeitsgruppe Nachhaltigkeit Hage nimmt auf Einladung der Klimagruppe Norden am\n‘Markt der Möglichkeiten – Zukunft gestalten für Mensch\, Klima und Natur‘ mit einer Ausstellung teil.\nUnsere Themen werden voraussichtlich \n\nnaturnahe und insektenfreundliche Gärten\,\ndie Zukunftswerkstatt in Hage\,\nder DorfFunk in Hage\,\nStarkregenvorsorge sowie\ndie Entwicklung und Aktivitäten der ‘AG Nachhaltigkeit Hage’\n\nsein.
URL:https://nachhaltigkeit-hage.de/veranstaltung/markt-der-moeglichkeiten/
LOCATION:Torfmarkt\, Am Markt\, Norden\, 26506
CATEGORIES:Information, Vortrag, Referat
END:VEVENT
BEGIN:VEVENT
DTSTART;TZID=Europe/Berlin:20250521T190000
DTEND;TZID=Europe/Berlin:20250521T210000
DTSTAMP:20260423T122441
CREATED:20250411T100415Z
LAST-MODIFIED:20250516T123741Z
UID:1378-1747854000-1747861200@nachhaltigkeit-hage.de
SUMMARY:Treffen der AG
DESCRIPTION:TOP 1\nPlanung zur Veranstaltung „Markt der Möglichkeiten“ am 21.06.25 von 9:00-14:00 Uhr auf dem Torfmarkt zu Norden (Anlage 2)\nTOP 2\nNeuausrichtung der Arbeitsschwerpunkte zu den 25 Arbeitszielen
URL:https://nachhaltigkeit-hage.de/veranstaltung/treffen-der-ag/
LOCATION:AWO-Treff Hage\, Halbemonder Str. 2A\, Hage\, 26524
END:VEVENT
END:VCALENDAR